BEGIN:VCALENDAR
VERSION:2.0
BEGIN:VTIMEZONE
TZID:UTC
END:VTIMEZONE
BEGIN:VEVENT
CLASS:PUBLIC
DESCRIPTION:This seminar proposes to analyze the current reconfigurations of resistance in the arts and writings, and thus to study in what way the emergence of new epistemologies have been able to profoundly modify them by bringing certain practices into the field of knowledge.
DTEND:20210503T170000
DTSTART:20210503T100000
LOCATION:Grenoble
SUMMARY:Arts and Rebel Writing. Dissident Images and Linguistic Resistance
TRANSP:OPAQUE
END:VEVENT
END:VCALENDAR