BEGIN:VCALENDAR
VERSION:2.0
BEGIN:VTIMEZONE
TZID:UTC
END:VTIMEZONE
BEGIN:VEVENT
CLASS:PUBLIC
DESCRIPTION:Partisan Cultures: Weapons of Mass Creation1 &#8211; 2 October 2021Volkstheater Wien This seminar revisits various inspiring experiences—political, artistic, and pedagogical—of partisan struggles of the long twentieth century. Expanding the traditional scope of research on partisan movements to look beyond the antifascist and national liberation struggles of the Second War World, we propose an understanding of &hellip; <a href="https://modernidadesdescentralizadas.com/actividad/partisan-cultures-weapons-of-mass-creation/" class="more-link">Continue reading <span class="screen-reader-text">Partisan Cultures: Weapons of Mass Creation</span></a>
DTEND:20210902T213000
DTSTART:20211001T150000
LOCATION:Wien
SUMMARY:Partisan Cultures: Weapons of Mass Creation
TRANSP:OPAQUE
END:VEVENT
END:VCALENDAR