BEGIN:VCALENDAR
VERSION:2.0
BEGIN:VTIMEZONE
TZID:UTC
END:VTIMEZONE
BEGIN:VEVENT
CLASS:PUBLIC
DESCRIPTION:Próximamente, "Arts et écrits rebelles : images dissidentes et résistance de la langue" (Arte y escritura rebeldes: imágenes disidentes y resistencia lingüística, 11- 15 de mayo de 2022) en el Centre Culturel International de Cerisy (Cerisy-la-Salle, France). Este congreso tratará de examinar el pensamiento rebelde e ingenioso de la disidencia en las artes y en la escritura.  Entre los ponentes estarán Juan Albarrán, Paula Barreiro López y Maria Ruido de MoDe(s).
DTEND:20220415T190000
DTSTART:20220511T000000
LOCATION:Cerisy-la-Salle
SUMMARY:Arte y escritura rebeldes: imágenes disidentes y resistencia lingüística
TRANSP:OPAQUE
END:VEVENT
END:VCALENDAR