BEGIN:VCALENDAR
VERSION:2.0
BEGIN:VTIMEZONE
TZID:UTC
END:VTIMEZONE
BEGIN:VEVENT
CLASS:PUBLIC
DESCRIPTION:El congreso internacional "De la Biennale a las bienales. El deseo imposible" tendrá lugar en la Università Ca' Foscari Venezia (26 - 28 de abril de 2023). Este congreso buscar instituir un espacio de reflexión y diálogo sobre el término ‘bienal’, el fenómeno y las historias individuales y colectivas de las bienales entre los años treinta y ochenta. 
DTEND:20230428T000000
DTSTART:20230426T100000
LOCATION:Venecia
SUMMARY:De la Biennale a las bienales. El deseo imposible
TRANSP:OPAQUE
END:VEVENT
END:VCALENDAR