BEGIN:VCALENDAR
VERSION:2.0
BEGIN:VTIMEZONE
TZID:UTC
END:VTIMEZONE
BEGIN:VEVENT
CLASS:PUBLIC
DESCRIPTION:El seminario "Equipo Comunicación, en contexto: antifranquismo, edición y crítica cultural" (6-8 de noviembre de 2024) tiene como objetivo recuperar y contextualizar el trabajo de Equipo Comunicación, revisitado este colectivo como un agente fundamental en la articulación de un campo cultural antifranquista y protodemocrático.
DTEND:20241108T200000
DTSTART:20241106T000000
LOCATION:Madrid
SUMMARY:Equipo Comunicación, en contexto: antifranquismo, edición y crítica cultural
TRANSP:OPAQUE
END:VEVENT
END:VCALENDAR