BEGIN:VCALENDAR
VERSION:2.0
BEGIN:VTIMEZONE
TZID:UTC
END:VTIMEZONE
BEGIN:VEVENT
CLASS:PUBLIC
DESCRIPTION:Cette journée d'étude se propose d’analyser les reconfigurations actuelles de la résistance dans les arts et les écrits, et ainsi d’étudier en quoi l’émergence de nouvelles épistémologies ont pu profondément les modifier en faisant entrer dans le champ de la connaissance certaines pratiques. 
DTEND:20210503T170000
DTSTART:20210503T110000
LOCATION:Grenoble
SUMMARY:Arts et écrits rebelles. Images dissidentes et résistances de la langue
TRANSP:OPAQUE
END:VEVENT
END:VCALENDAR