BEGIN:VCALENDAR
VERSION:2.0
BEGIN:VTIMEZONE
TZID:UTC
END:VTIMEZONE
BEGIN:VEVENT
CLASS:PUBLIC
DESCRIPTION:Le séminaire "Au-delà de l'exposition : une approche transnationale et polyphonique de ses histoires, de la Guerre Froide à la contemporanéité" aura lieu le 9 septembre 2022 à l'Universidad Autónoma de Madrid. le séminaire cherche à discuter du potentiel et des limites des expositions, en les comprenant à la fois comme un outil de déstabilisation du récit eurocentrique et du format d'exposition hégémonique, et comme un espace traversé par des questions et des tensions géopolitiques. 
DTEND:20220909T210000
DTSTART:20220909T100000
LOCATION:Madrid
SUMMARY:Au-delà de l’exposition : une approche transnationale et polyphonique de ses histoires de la Guerre Froide à nos jours
TRANSP:OPAQUE
END:VEVENT
END:VCALENDAR