BEGIN:VCALENDAR
VERSION:2.0
BEGIN:VTIMEZONE
TZID:UTC
END:VTIMEZONE
BEGIN:VEVENT
CLASS:PUBLIC
DESCRIPTION:Le colloque international " De la Biennale aux Biennales. Le désir impossible" qui aura lieu à l'Università Ca' Foscari Venezia (26 - 28 avril 2023). Ce colloque vise donc à créer un espace de réflexion et de dialogue sur le terme "Biennale", le phénomène des biennales et les histoires individuelles et collectives des biennales qui ont vu le jour entre les années 1930 et 1980. 
DTEND:20230428T140000
DTSTART:20230426T100000
LOCATION:Venise
SUMMARY:De la Biennale aux biennales. Le désir impossible
TRANSP:OPAQUE
END:VEVENT
END:VCALENDAR